BEGIN:VCALENDAR
VERSION:2.0
PRODID:-//wp-events-plugin.com//7.2.3.1//EN
BEGIN:VEVENT
UID:180@imoitraining.com
DTSTART:20260518T000000Z
DTEND:20260522T000000Z
DTSTAMP:20260424T091356Z
URL:https://imoitraining.com/events/bridge-team-resource-management-course
 -2/
SUMMARY:Bridge Team Resource Management Course
DESCRIPTION:
LOCATION:Instructor-led Course with a Desktop-based Simulator at IMOI (Andh
 eri West\, Mumbai)\, Ramchandra Lane Extension\, 400064\, Mumbai\, India
X-APPLE-STRUCTURED-LOCATION;VALUE=URI;X-ADDRESS=Ramchandra Lane Extension\,
  400064\, Mumbai\, India;X-APPLE-RADIUS=100;X-TITLE=Instructor-led Course 
 with a Desktop-based Simulator at IMOI (Andheri West\, Mumbai):geo:0,0
END:VEVENT
END:VCALENDAR