BEGIN:VCALENDAR
VERSION:2.0
PRODID:-//wp-events-plugin.com//7.2.3.1//EN
BEGIN:VEVENT
UID:185@imoitraining.com
DTSTART:20260515T000000Z
DTEND:20260515T000000Z
DTSTAMP:20260424T102657Z
URL:https://imoitraining.com/events/dangerous-and-hazardous-substances-for
 -ratings-online/
SUMMARY:Dangerous and Hazardous Substances for Ratings - Online
DESCRIPTION:
LOCATION:Online Via HELMS\, Ramchandra Lane Extension\, 400064\, Mumbai\, I
 ndia
X-APPLE-STRUCTURED-LOCATION;VALUE=URI;X-ADDRESS=Ramchandra Lane Extension\,
  400064\, Mumbai\, India;X-APPLE-RADIUS=100;X-TITLE=Online Via HELMS:geo:0
 ,0
END:VEVENT
END:VCALENDAR