BEGIN:VCALENDAR
VERSION:2.0
PRODID:-//wp-events-plugin.com//7.2.3.1//EN
BEGIN:VEVENT
UID:94@imoitraining.com
DTSTART:20260518T000000Z
DTEND:20260520T000000Z
DTSTAMP:20260107T045402Z
URL:https://imoitraining.com/events/sopex-course-2/
SUMMARY:Sopex Course
DESCRIPTION:
LOCATION:Instructor-led Classroom Training at FOSMA\, Andheri (E)\, Foreign
  Owners Representatives and Ship Managers Association Fulcrum\, 102 A\, Sa
 har Rd\, Ashok Nagar\, Andheri East\, Mumbai\, Maharashtra\, Mumbai\, Maha
 rashtra\, 400099\, India
X-APPLE-STRUCTURED-LOCATION;VALUE=URI;X-ADDRESS=Foreign Owners Representati
 ves and Ship Managers Association Fulcrum\, 102 A\, Sahar Rd\, Ashok Nagar
 \, Andheri East\, Mumbai\, Maharashtra\, Mumbai\, Maharashtra\, 400099\, I
 ndia;X-APPLE-RADIUS=100;X-TITLE=Instructor-led Classroom Training at FOSMA
 \, Andheri (E):geo:0,0
END:VEVENT
END:VCALENDAR